BEGIN:VCALENDAR
VERSION:2.0
PRODID:-//CVRD - ECPv6.15.18//NONSGML v1.0//EN
CALSCALE:GREGORIAN
METHOD:PUBLISH
X-ORIGINAL-URL:https://cvrd.ca
X-WR-CALDESC:Events for CVRD
REFRESH-INTERVAL;VALUE=DURATION:PT1H
X-Robots-Tag:noindex
X-PUBLISHED-TTL:PT1H
BEGIN:VTIMEZONE
TZID:America/Vancouver
BEGIN:DAYLIGHT
TZOFFSETFROM:-0800
TZOFFSETTO:-0700
TZNAME:PDT
DTSTART:20250309T100000
END:DAYLIGHT
BEGIN:STANDARD
TZOFFSETFROM:-0700
TZOFFSETTO:-0800
TZNAME:PST
DTSTART:20251102T090000
END:STANDARD
BEGIN:DAYLIGHT
TZOFFSETFROM:-0800
TZOFFSETTO:-0700
TZNAME:PDT
DTSTART:20260308T100000
END:DAYLIGHT
BEGIN:STANDARD
TZOFFSETFROM:-0700
TZOFFSETTO:-0800
TZNAME:PST
DTSTART:20261101T090000
END:STANDARD
BEGIN:DAYLIGHT
TZOFFSETFROM:-0800
TZOFFSETTO:-0700
TZNAME:PDT
DTSTART:20270314T100000
END:DAYLIGHT
BEGIN:STANDARD
TZOFFSETFROM:-0700
TZOFFSETTO:-0800
TZNAME:PST
DTSTART:20271107T090000
END:STANDARD
END:VTIMEZONE
BEGIN:VEVENT
DTSTART;TZID=America/Vancouver:20261118T093000
DTEND;TZID=America/Vancouver:20261118T093000
DTSTAMP:20260425T032638
CREATED:20260423T153805Z
LAST-MODIFIED:20260423T153911Z
UID:18479-1794994200-1794994200@cvrd.ca
SUMMARY:Electoral Area Services Meeting
DESCRIPTION:
URL:https://cvrd.ca/event/electoral-area-services-meeting-2/
LOCATION:CVRD Board Room\, 175 Ingram Street\, Duncan\, BC\, V9L 1N8\, Canada
END:VEVENT
BEGIN:VEVENT
DTSTART;TZID=America/Vancouver:20261118T133000
DTEND;TZID=America/Vancouver:20261118T133000
DTSTAMP:20260425T032638
CREATED:20260423T153959Z
LAST-MODIFIED:20260423T154005Z
UID:18482-1795008600-1795008600@cvrd.ca
SUMMARY:Accessibility Advisory Committee Meeting
DESCRIPTION:
URL:https://cvrd.ca/event/accessibility-advisory-committee-meeting-2/
LOCATION:CVRD Board Room\, 175 Ingram Street\, Duncan\, BC\, V9L 1N8\, Canada
END:VEVENT
BEGIN:VEVENT
DTSTART;TZID=America/Vancouver:20260126T133000
DTEND;TZID=America/Vancouver:20260126T153000
DTSTAMP:20260425T032638
CREATED:20260122T232625Z
LAST-MODIFIED:20260123T005752Z
UID:15708-1769434200-1769441400@cvrd.ca
SUMMARY:Cowichan Lake Recreation Commission (CLRC)
DESCRIPTION:
URL:https://cvrd.ca/event/cowichan-lake-recreation-commission-2/
LOCATION:Cowichan Lake Sports Arena\, 311 S Shore Rd\, Lake Cowichan\, BC\, Canada
CATEGORIES:Committees / Commissions
END:VEVENT
BEGIN:VEVENT
DTSTART;TZID=America/Vancouver:20260127T100000
DTEND;TZID=America/Vancouver:20260127T120000
DTSTAMP:20260425T032638
CREATED:20260122T232901Z
LAST-MODIFIED:20260122T233001Z
UID:15712-1769508000-1769515200@cvrd.ca
SUMMARY:Cowichan South Recreation Commission (CSRC)
DESCRIPTION:KPRC = Kerry Park Recreation Centre \nSLCC = Shawnigan Lake Community Centre
URL:https://cvrd.ca/event/cowichan-south-recreation-commission/
CATEGORIES:Committees / Commissions
END:VEVENT
BEGIN:VEVENT
DTSTART;TZID=America/Vancouver:20260127T143000
DTEND;TZID=America/Vancouver:20260127T163000
DTSTAMP:20260425T032638
CREATED:20251211T172612Z
LAST-MODIFIED:20260123T010120Z
UID:13480-1769524200-1769531400@cvrd.ca
SUMMARY:Cowichan North Recreation Commission (CNRC)
DESCRIPTION:
URL:https://cvrd.ca/event/cowichan-north-recreation-commission-cnrc/
CATEGORIES:Committees / Commissions
END:VEVENT
BEGIN:VEVENT
DTSTART;TZID=America/Vancouver:20261125T093000
DTEND;TZID=America/Vancouver:20261125T093000
DTSTAMP:20260425T032638
CREATED:20260423T153145Z
LAST-MODIFIED:20260423T153202Z
UID:18473-1795599000-1795599000@cvrd.ca
SUMMARY:Regular Board Meeting
DESCRIPTION:
URL:https://cvrd.ca/event/regular-board-meeting-3-2-2/
LOCATION:CVRD Board Room\, 175 Ingram Street\, Duncan\, BC\, V9L 1N8\, Canada
END:VEVENT
BEGIN:VEVENT
DTSTART;TZID=America/Vancouver:20261125T133000
DTEND;TZID=America/Vancouver:20261125T133000
DTSTAMP:20260425T032638
CREATED:20260423T153247Z
LAST-MODIFIED:20260423T153311Z
UID:18475-1795613400-1795613400@cvrd.ca
SUMMARY:Hospital Board Meeting
DESCRIPTION:
URL:https://cvrd.ca/event/regular-board-meeting-3-2-2-2/
LOCATION:CVRD Board Room\, 175 Ingram Street\, Duncan\, BC\, V9L 1N8\, Canada
END:VEVENT
BEGIN:VEVENT
DTSTART;VALUE=DATE:20261202
DTEND;VALUE=DATE:20261203
DTSTAMP:20260425T032638
CREATED:20260319T213922Z
LAST-MODIFIED:20260319T220629Z
UID:17646-1796169600-1796255999@cvrd.ca
SUMMARY:Winter & Spring 2027 Recreation Guide Release
DESCRIPTION:Our Winter & Spring Recreation Guide will be available starting December 2. This guide covers programs running from January to April 2027. \nPick up a copy at your local recreation centre\, or click here to view the guide after the release date. \nProgram registration for all centres opens Monday\, December 7\, 2026.
URL:https://cvrd.ca/event/winter-spring-recreation-guide-release/
CATEGORIES:CVRD Recreation
END:VEVENT
BEGIN:VEVENT
DTSTART;TZID=America/Vancouver:20261202T093000
DTEND;TZID=America/Vancouver:20261202T093000
DTSTAMP:20260425T032638
CREATED:20260423T154200Z
LAST-MODIFIED:20260423T154207Z
UID:18488-1796203800-1796203800@cvrd.ca
SUMMARY:Electoral Area Services Meeting
DESCRIPTION:
URL:https://cvrd.ca/event/electoral-area-services-meeting-2-2/
LOCATION:CVRD Board Room\, 175 Ingram Street\, Duncan\, BC\, V9L 1N8\, Canada
END:VEVENT
BEGIN:VEVENT
DTSTART;VALUE=DATE:20261207
DTEND;VALUE=DATE:20261208
DTSTAMP:20260425T032638
CREATED:20260319T215526Z
LAST-MODIFIED:20260319T220650Z
UID:17658-1796601600-1796687999@cvrd.ca
SUMMARY:Registration Day for Winter & Spring 2027 Recreation Programs
DESCRIPTION:Registration for our Winter & Spring recreation programs opens for all centres at 9:00 AM. \nRegister in person\, online\, or by calling us: \n\n\n\nCowichan Community Centre\n250.748.7529\n\n\nCowichan Lake Recreation\n250.749.6742\n\n\nKerry Park Recreation Centre\n250.743.5922\n\n\nShawnigan Lake Community Centre\n250.743.1433
URL:https://cvrd.ca/event/registration-day-for-winter-spring-recreation-programs/
CATEGORIES:CVRD Recreation
END:VEVENT
BEGIN:VEVENT
DTSTART;TZID=America/Vancouver:20261209T093000
DTEND;TZID=America/Vancouver:20261209T093000
DTSTAMP:20260425T032638
CREATED:20260423T154113Z
LAST-MODIFIED:20260423T154126Z
UID:18486-1796808600-1796808600@cvrd.ca
SUMMARY:Committee of the Whole Meeting
DESCRIPTION:
URL:https://cvrd.ca/event/committee-of-the-whole-meeting-4-2-2/
LOCATION:CVRD Board Room\, 175 Ingram Street\, Duncan\, BC\, V9L 1N8\, Canada
END:VEVENT
BEGIN:VEVENT
DTSTART;TZID=America/Vancouver:20261216T093000
DTEND;TZID=America/Vancouver:20261216T093000
DTSTAMP:20260425T032638
CREATED:20260423T154035Z
LAST-MODIFIED:20260423T154041Z
UID:18484-1797413400-1797413400@cvrd.ca
SUMMARY:Regular Board Meeting
DESCRIPTION:
URL:https://cvrd.ca/event/regular-board-meeting-3-2-2-3/
LOCATION:CVRD Board Room\, 175 Ingram Street\, Duncan\, BC\, V9L 1N8\, Canada
END:VEVENT
END:VCALENDAR