BEGIN:VCALENDAR
VERSION:2.0
PRODID:-//CVRD - ECPv6.15.18//NONSGML v1.0//EN
CALSCALE:GREGORIAN
METHOD:PUBLISH
X-ORIGINAL-URL:https://cvrd.ca
X-WR-CALDESC:Events for CVRD
REFRESH-INTERVAL;VALUE=DURATION:PT1H
X-Robots-Tag:noindex
X-PUBLISHED-TTL:PT1H
BEGIN:VTIMEZONE
TZID:America/Vancouver
BEGIN:DAYLIGHT
TZOFFSETFROM:-0800
TZOFFSETTO:-0700
TZNAME:PDT
DTSTART:20250309T100000
END:DAYLIGHT
BEGIN:STANDARD
TZOFFSETFROM:-0700
TZOFFSETTO:-0800
TZNAME:PST
DTSTART:20251102T090000
END:STANDARD
BEGIN:DAYLIGHT
TZOFFSETFROM:-0800
TZOFFSETTO:-0700
TZNAME:PDT
DTSTART:20260308T100000
END:DAYLIGHT
BEGIN:STANDARD
TZOFFSETFROM:-0700
TZOFFSETTO:-0800
TZNAME:PST
DTSTART:20261101T090000
END:STANDARD
BEGIN:DAYLIGHT
TZOFFSETFROM:-0800
TZOFFSETTO:-0700
TZNAME:PDT
DTSTART:20270314T100000
END:DAYLIGHT
BEGIN:STANDARD
TZOFFSETFROM:-0700
TZOFFSETTO:-0800
TZNAME:PST
DTSTART:20271107T090000
END:STANDARD
END:VTIMEZONE
BEGIN:VEVENT
DTSTART;TZID=America/Vancouver:20260413T170000
DTEND;TZID=America/Vancouver:20260413T190000
DTSTAMP:20260425T032428
CREATED:20260318T182353Z
LAST-MODIFIED:20260318T182353Z
UID:17574-1776099600-1776106800@cvrd.ca
SUMMARY:Public Information Meeting - Saltair & Diamond Local Area Plans
DESCRIPTION:Diamond Hall\, 4962 Christie Rd \nThis meeting focuses on Saltair & Diamond Draft Local Area Plans\, (Electoral Areas G & H) Bylaw No. 4705. \nContact:  planyourcowichan@cvrd.bc.ca
URL:https://cvrd.ca/event/public-information-meeting-saltair-diamond-local-area-plans/
LOCATION:BC
CATEGORIES:Board/Hospital,Open Houses
END:VEVENT
BEGIN:VEVENT
DTSTART;TZID=America/Vancouver:20260414T170000
DTEND;TZID=America/Vancouver:20260414T190000
DTSTAMP:20260425T032428
CREATED:20260318T182748Z
LAST-MODIFIED:20260318T182748Z
UID:17577-1776186000-1776193200@cvrd.ca
SUMMARY:Public Information Meeting - Cowichan Bay & Eagle Heights/Koksilah Village Local Area Plans
DESCRIPTION:Oceanfront Suites\, 1681 Cowichan Bay Rd \nThis meeting focuses on Cowichan Bay & Eagle Heights/Koksilah Village draft Local Area Plans\, (Electoral Areas D & E) Bylaw No. 4705. \nContact:  planyourcowichan@cvrd.bc.ca
URL:https://cvrd.ca/event/public-information-meeting-cowichan-bay-eagle-heights-koksilah-village-local-area-plans/
LOCATION:BC
CATEGORIES:Board/Hospital,Open Houses
END:VEVENT
BEGIN:VEVENT
DTSTART;TZID=America/Vancouver:20260415T093000
DTEND;TZID=America/Vancouver:20260415T093000
DTSTAMP:20260425T032428
CREATED:20260331T182844Z
LAST-MODIFIED:20260331T182909Z
UID:17999-1776245400-1776245400@cvrd.ca
SUMMARY:Electoral Area Services Committee
DESCRIPTION:
URL:https://cvrd.ca/event/electoral-area-services-committee-6/
LOCATION:CVRD Board Room\, 175 Ingram Street\, Duncan\, BC\, V9L 1N8\, Canada
CATEGORIES:Committees / Commissions
END:VEVENT
BEGIN:VEVENT
DTSTART;TZID=America/Vancouver:20260415T130000
DTEND;TZID=America/Vancouver:20260415T130000
DTSTAMP:20260425T032428
CREATED:20260414T204222Z
LAST-MODIFIED:20260414T204222Z
UID:18277-1776258000-1776258000@cvrd.ca
SUMMARY:Special Electoral Area Services Committee
DESCRIPTION:
URL:https://cvrd.ca/event/special-electoral-area-services-committee-2/
LOCATION:CVRD Board Room\, 175 Ingram Street\, Duncan\, BC\, V9L 1N8\, Canada
CATEGORIES:Committees / Commissions
END:VEVENT
BEGIN:VEVENT
DTSTART;TZID=America/Vancouver:20260416T170000
DTEND;TZID=America/Vancouver:20260416T190000
DTSTAMP:20260425T032428
CREATED:20260318T183058Z
LAST-MODIFIED:20260318T183058Z
UID:17579-1776358800-1776366000@cvrd.ca
SUMMARY:Public Information Meeting - Mill Bay/Shawnigan Lake/Cobble Hill Local Area Plans
DESCRIPTION:Cobble Hill Farmer’s Institute\, 3550 Watson Ave \nThis meeting focuses on Mill Bay\, Shawnigan Lake\, and Cobble Hill draft Local Area Plans\, (Electoral Areas A\, B\, & C) Bylaw No. 4705. \nContact:  planyourcowichan@cvrd.bc.ca
URL:https://cvrd.ca/event/public-information-meeting-mill-bay-shawnigan-lake-cobble-hill-local-area-plans/
LOCATION:BC
CATEGORIES:Board/Hospital,Open Houses
END:VEVENT
BEGIN:VEVENT
DTSTART;TZID=America/Vancouver:20260417T130000
DTEND;TZID=America/Vancouver:20260417T150000
DTSTAMP:20260425T032428
CREATED:20260416T232037Z
LAST-MODIFIED:20260416T232037Z
UID:18343-1776430800-1776438000@cvrd.ca
SUMMARY:Holland Creek Park Public Showcase – Fuel Mitigation Project
DESCRIPTION:Join the FireSmart Team on April 17th from 1–3 PM at the Mackie Rd Trailhead in Ladysmith for a guided walk through Holland Creek Park! \nThis public showcase highlights the recent fuel mitigation work completed in the area\, helping to reduce wildfire risk and support long-term forest health. FireSmart staff will be on site to lead tours\, answer questions\, and share insights into the work. Come see the changes firsthand and learn how these efforts help protect our community.
URL:https://cvrd.ca/event/holland-creek-park-public-showcase-fuel-mitigation-project/
LOCATION:BC
CATEGORIES:Emergency Management Cowichan
END:VEVENT
BEGIN:VEVENT
DTSTART;TZID=America/Vancouver:20260422T093000
DTEND;TZID=America/Vancouver:20260422T093000
DTSTAMP:20260425T032428
CREATED:20260331T183555Z
LAST-MODIFIED:20260331T183621Z
UID:18001-1776850200-1776850200@cvrd.ca
SUMMARY:Regular Board
DESCRIPTION:
URL:https://cvrd.ca/event/regular-board-4/
LOCATION:CVRD Board Room\, 175 Ingram Street\, Duncan\, BC\, V9L 1N8\, Canada
CATEGORIES:Board/Hospital
END:VEVENT
BEGIN:VEVENT
DTSTART;TZID=America/Vancouver:20260430T160000
DTEND;TZID=America/Vancouver:20260430T200000
DTSTAMP:20260425T032428
CREATED:20260415T192640Z
LAST-MODIFIED:20260417T214845Z
UID:18305-1777564800-1777579200@cvrd.ca
SUMMARY:PUBLIC INFORMATION MEETING RE:  RZ24A02 (HANDY RD)
DESCRIPTION:The applicant for Rezoning Application No. RZ24A02 will host a Public Information Meeting. \nPresentations at 5:00 p.m. followed by a question-and-answer period\,  repeated at 7:00 p.m. \nMore information: https://cvrd.ca/planning-and-development/development-and-zoning/public-hearings-and-notices-of-intent/
URL:https://cvrd.ca/event/public-information-meeting-re-rz24a02-handy-rd/
LOCATION:Kerry Park Recreation Centre
CATEGORIES:Committees / Commissions,Open Houses
END:VEVENT
BEGIN:VEVENT
DTSTART;VALUE=DATE:20260501
DTEND;VALUE=DATE:20260508
DTSTAMP:20260425T032428
CREATED:20260407T164759Z
LAST-MODIFIED:20260407T164759Z
UID:18123-1777593600-1778198399@cvrd.ca
SUMMARY:BC Youth Week
DESCRIPTION:Join CVRD Recreation in celebrating BC Youth Week\, a provincial celebration of youth\, held annually from May 1 – 7. This week of fun-filled interaction and celebration is intended to build a strong connection between youth and their communities. \nCVRD Recreation Facilities will be celebrating BC Youth Week by offering a week full of FREE activities in collaboration with our Community Partners. \nMore details about all the activities can be found on our Special Events Pages:\nCowichan Community Centre\nCowichan Lake Recreation\nKerry Park Recreation Centre\nShawnigan Lake Community Centre
URL:https://cvrd.ca/event/bc-youth-week/
LOCATION:BC
CATEGORIES:CVRD Recreation
END:VEVENT
BEGIN:VEVENT
DTSTART;TZID=America/Vancouver:20260502T100000
DTEND;TZID=America/Vancouver:20260502T140000
DTSTAMP:20260425T032428
CREATED:20260422T180321Z
LAST-MODIFIED:20260422T180321Z
UID:18426-1777716000-1777730400@cvrd.ca
SUMMARY:Cowichan Emergency Preparedness Expo
DESCRIPTION:Join us at the Cowichan Emergency Preparedness Expo. This fun\, free family event brings together emergency response organizations and showcases emergency preparedness. Enjoy content presentations\, live demonstrations\, and food trucks\, and also get tips on how to make an emergency preparedness plan!
URL:https://cvrd.ca/event/cowichan-emergency-preparedness-expo/
LOCATION:Cowichan Exhibition Grounds\, 7380 Trans-Canada Hwy\, Duncan\, BC\, V9L 6B1
CATEGORIES:Emergency Management Cowichan
END:VEVENT
BEGIN:VEVENT
DTSTART;TZID=America/Vancouver:20260506T093000
DTEND;TZID=America/Vancouver:20260506T093000
DTSTAMP:20260425T032428
CREATED:20260422T225303Z
LAST-MODIFIED:20260423T163357Z
UID:18437-1778059800-1778059800@cvrd.ca
SUMMARY:Electoral Area Services Committee Meeting
DESCRIPTION:
URL:https://cvrd.ca/event/electoral-area-services-committee-meeting/
LOCATION:CVRD Board Room\, 175 Ingram Street\, Duncan\, BC\, V9L 1N8\, Canada
END:VEVENT
BEGIN:VEVENT
DTSTART;TZID=America/Vancouver:20260506T133000
DTEND;TZID=America/Vancouver:20260506T133000
DTSTAMP:20260425T032428
CREATED:20260422T230007Z
LAST-MODIFIED:20260423T164052Z
UID:18445-1778074200-1778074200@cvrd.ca
SUMMARY:Accessibility Advisory Committee
DESCRIPTION:
URL:https://cvrd.ca/event/accessibility-advisory-committee-2/
LOCATION:CVRD Board Room\, 175 Ingram Street\, Duncan\, BC\, V9L 1N8\, Canada
END:VEVENT
BEGIN:VEVENT
DTSTART;TZID=America/Vancouver:20260506T153000
DTEND;TZID=America/Vancouver:20260506T183000
DTSTAMP:20260425T032428
CREATED:20260312T230548Z
LAST-MODIFIED:20260409T150932Z
UID:17451-1778081400-1778092200@cvrd.ca
SUMMARY:POSTPONED - CVRD Comprehensive Zoning Bylaw Open House
DESCRIPTION:The Comprehensive Zoning Bylaw Open House events have been postponed. We’re happy to offer future public engagement once determined. \nThe CVRD invites residents to attend upcoming public engagement on the draft Comprehensive Zoning Bylaw (CZB). Open Houses will be held across the region in May\, 2026. Please join us to: \n\nLearn about how the CZB implements the Official Community Plan (OCP)\nExplore what the CZB means for land use development\nAsk your questions about the CZB and speak to CVRD planning staff\nShare feedback to help inform the draft CZB\n\nIn-Person Open House between 3:30 PM to 6:30 PM\nSaltair Community Centre Gymnasium\n3850 South Oyster School Road\,Ladysmith
URL:https://cvrd.ca/event/cvrd-comprehensive-zoning-bylaw-open-houses/
LOCATION:Saltair Community Centre Gymnasium\, 3850 South Oyster School Rd\, Ladysmith\, BC\, Canada
CATEGORIES:Open Houses
END:VEVENT
BEGIN:VEVENT
DTSTART;TZID=America/Vancouver:20260508T153000
DTEND;TZID=America/Vancouver:20260508T183000
DTSTAMP:20260425T032428
CREATED:20260312T230913Z
LAST-MODIFIED:20260409T150829Z
UID:17456-1778254200-1778265000@cvrd.ca
SUMMARY:POSTPONED - CVRD Comprehensive Zoning Bylaw Open House
DESCRIPTION:The Comprehensive Zoning Bylaw Open House events have been postponed. We’re happy to offer future public engagement once determined. \nThe CVRD invites residents to attend upcoming public engagement on the draft Comprehensive Zoning Bylaw (CZB). Open Houses will be held across the region in May\, 2026. Please join us to: \n\nLearn about how the CZB implements the Official Community Plan (OCP)\nExplore what the CZB means for land use development\nAsk your questions about the CZB and speak to CVRD planning staff\nShare feedback to help inform the draft CZB\n\nIn-Person Open House between 3:30 PM to 6:30 PM\nKerry Park Community Centre Denis McLean Room\n1035 Shawnigan/Mill Bay Road\, Mill Bay
URL:https://cvrd.ca/event/cvrd-comprehensive-zoning-bylaw-open-houses-2/
LOCATION:Kerry Park Community Centre Denis McLean Room
CATEGORIES:Open Houses
END:VEVENT
BEGIN:VEVENT
DTSTART;TZID=America/Vancouver:20260511T153000
DTEND;TZID=America/Vancouver:20260511T183000
DTSTAMP:20260425T032428
CREATED:20260312T231954Z
LAST-MODIFIED:20260409T150730Z
UID:17469-1778513400-1778524200@cvrd.ca
SUMMARY:POSTPONED - CVRD Comprehensive Zoning Bylaw Open House
DESCRIPTION:The Comprehensive Zoning Bylaw Open House events have been postponed. We’re happy to offer future public engagement once determined. \nThe CVRD invites residents to attend upcoming public engagement on the draft Comprehensive Zoning Bylaw (CZB). Open Houses will be held across the region in May\, 2026. Please join us to: \n\nLearn about how the CZB implements the Official Community Plan (OCP)\nExplore what the CZB means for land use development\nAsk your questions about the CZB and speak to CVRD planning staff\nShare feedback to help inform the draft CZB\n\nIn-Person Open House between 3:30 PM to 6:30 PM\nThe HUB at Cowichan Station Gymnasium\n2375 Koksilah Road\, Duncan
URL:https://cvrd.ca/event/cvrd-comprehensive-zoning-bylaw-open-house/
LOCATION:The HUB at Cowichan Station Gymnasium
CATEGORIES:Open Houses
END:VEVENT
BEGIN:VEVENT
DTSTART;TZID=America/Vancouver:20260513T093000
DTEND;TZID=America/Vancouver:20260513T093000
DTSTAMP:20260425T032428
CREATED:20260422T225839Z
LAST-MODIFIED:20260423T164139Z
UID:18441-1778664600-1778664600@cvrd.ca
SUMMARY:Committee of the Whole Meeting
DESCRIPTION:
URL:https://cvrd.ca/event/committee-of-the-whole-meeting/
LOCATION:CVRD Board Room\, 175 Ingram Street\, Duncan\, BC\, V9L 1N8\, Canada
END:VEVENT
BEGIN:VEVENT
DTSTART;TZID=America/Vancouver:20260513T133000
DTEND;TZID=America/Vancouver:20260513T140000
DTSTAMP:20260425T032428
CREATED:20260302T174132Z
LAST-MODIFIED:20260302T181618Z
UID:16984-1778679000-1778680800@cvrd.ca
SUMMARY:Special Hospital Board
DESCRIPTION:
URL:https://cvrd.ca/event/hospital-board-2/
LOCATION:CVRD Board Room\, 175 Ingram Street\, Duncan\, BC\, V9L 1N8\, Canada
CATEGORIES:Board/Hospital
END:VEVENT
BEGIN:VEVENT
DTSTART;TZID=America/Vancouver:20260513T140000
DTEND;TZID=America/Vancouver:20260513T143000
DTSTAMP:20260425T032428
CREATED:20260302T172907Z
LAST-MODIFIED:20260302T181647Z
UID:16982-1778680800-1778682600@cvrd.ca
SUMMARY:Special Board
DESCRIPTION:
URL:https://cvrd.ca/event/regular-board-3-2/
LOCATION:BC
END:VEVENT
BEGIN:VEVENT
DTSTART;TZID=America/Vancouver:20260513T153000
DTEND;TZID=America/Vancouver:20260513T183000
DTSTAMP:20260425T032428
CREATED:20260312T232240Z
LAST-MODIFIED:20260409T150628Z
UID:17473-1778686200-1778697000@cvrd.ca
SUMMARY:POSTPONED - CVRD Comprehensive Zoning Bylaw Open House
DESCRIPTION:The Comprehensive Zoning Bylaw Open House events have been postponed. We’re happy to offer future public engagement once determined. \nThe CVRD invites residents to attend upcoming public engagement on the draft Comprehensive Zoning Bylaw (CZB). Open Houses will be held across the region in May\, 2026. Please join us to: \n\nLearn about how the CZB implements the Official Community Plan (OCP)\nExplore what the CZB means for land use development\nAsk your questions about the CZB and speak to CVRD planning staff\nShare feedback to help inform the draft CZB\n\nIn-Person Open House between 3:30 PM to 6:30 PM\nLake Cowichan Recreation Centre Curling Lounge\n311 South Shore Road\, Lake Cowichan
URL:https://cvrd.ca/event/cvrd-comprehensive-zoning-bylaw-open-house-2/
LOCATION:Cowichan Lake Recreation
CATEGORIES:Open Houses
END:VEVENT
BEGIN:VEVENT
DTSTART;TZID=America/Vancouver:20260514T140000
DTEND;TZID=America/Vancouver:20260514T160000
DTSTAMP:20260425T032428
CREATED:20260123T010015Z
LAST-MODIFIED:20260302T194625Z
UID:15718-1778767200-1778774400@cvrd.ca
SUMMARY:Cowichan Core Recreation Commission (CCRC)
DESCRIPTION:
URL:https://cvrd.ca/event/cowichan-core-recreation-commission-ccrc-2/
LOCATION:Cowichan Community Centre
CATEGORIES:Committees / Commissions
END:VEVENT
BEGIN:VEVENT
DTSTART;TZID=America/Vancouver:20260514T153000
DTEND;TZID=America/Vancouver:20260514T183000
DTSTAMP:20260425T032428
CREATED:20260313T185001Z
LAST-MODIFIED:20260409T150423Z
UID:17501-1778772600-1778783400@cvrd.ca
SUMMARY:POSTPONED - CVRD Comprehensive Zoning Bylaw Open House
DESCRIPTION:The Comprehensive Zoning Bylaw Open House events have been postponed. We’re happy to offer future public engagement once determined. \nThe CVRD invites residents to attend upcoming public engagement on the draft Comprehensive Zoning Bylaw (CZB). Open Houses will be held across the region in May\, 2026. Please join us to: \n\nLearn about how the CZB implements the Official Community Plan (OCP)\nExplore what the CZB means for land use development\nAsk your questions about the CZB and speak to CVRD planning staff\nShare feedback to help inform the draft CZB\n\nIn-Person Open House between 3:30 PM to 6:30 PM\nCowichan Community Centre Heritage Hall\n2687 James Street\, Duncan
URL:https://cvrd.ca/event/cvrd-comprehensive-zoning-bylaw-open-house-2-2/
LOCATION:Cowichan Community Centre
CATEGORIES:Open Houses
END:VEVENT
BEGIN:VEVENT
DTSTART;TZID=America/Vancouver:20260519T170000
DTEND;TZID=America/Vancouver:20260519T190000
DTSTAMP:20260425T032428
CREATED:20260318T183551Z
LAST-MODIFIED:20260318T183551Z
UID:17581-1779210000-1779217200@cvrd.ca
SUMMARY:Public Information Meeting - Honeymoon Bay/Mesachie Lake/Paldi & Youbou/Meade Creek Local Area Plans
DESCRIPTION:Cowichan Lake Recreation\, 311 South Shore Rd \nThis meeting focuses on Honeymoon Bay/Mesachie Lake/Paldi & Youbou/Meade Creek draft Local Area Plans\, (Electoral Area F & I) Bylaw No. 4705. \nContact:  planyourcowichan@cvrd.bc.ca
URL:https://cvrd.ca/event/public-information-meeting-honeymoon-bay-mesachie-lake-paldi-youbou-meade-creek-local-area-plans/
LOCATION:BC
CATEGORIES:Board/Hospital,Open Houses
END:VEVENT
BEGIN:VEVENT
DTSTART;TZID=America/Vancouver:20260520T093000
DTEND;TZID=America/Vancouver:20260520T093000
DTSTAMP:20260425T032428
CREATED:20260422T225746Z
LAST-MODIFIED:20260423T164343Z
UID:18439-1779269400-1779269400@cvrd.ca
SUMMARY:Electoral Area Services Committee Meeting
DESCRIPTION:
URL:https://cvrd.ca/event/electoral-area-services-committee-meeting-2/
LOCATION:CVRD Board Room\, 175 Ingram Street\, Duncan\, BC\, V9L 1N8\, Canada
END:VEVENT
BEGIN:VEVENT
DTSTART;TZID=America/Vancouver:20260126T133000
DTEND;TZID=America/Vancouver:20260126T153000
DTSTAMP:20260425T032428
CREATED:20260122T232625Z
LAST-MODIFIED:20260123T005752Z
UID:15708-1769434200-1769441400@cvrd.ca
SUMMARY:Cowichan Lake Recreation Commission (CLRC)
DESCRIPTION:
URL:https://cvrd.ca/event/cowichan-lake-recreation-commission-2/
LOCATION:Cowichan Lake Sports Arena\, 311 S Shore Rd\, Lake Cowichan\, BC\, Canada
CATEGORIES:Committees / Commissions
END:VEVENT
BEGIN:VEVENT
DTSTART;TZID=America/Vancouver:20260127T100000
DTEND;TZID=America/Vancouver:20260127T120000
DTSTAMP:20260425T032428
CREATED:20260122T232901Z
LAST-MODIFIED:20260122T233001Z
UID:15712-1769508000-1769515200@cvrd.ca
SUMMARY:Cowichan South Recreation Commission (CSRC)
DESCRIPTION:KPRC = Kerry Park Recreation Centre \nSLCC = Shawnigan Lake Community Centre
URL:https://cvrd.ca/event/cowichan-south-recreation-commission/
LOCATION:BC
CATEGORIES:Committees / Commissions
END:VEVENT
BEGIN:VEVENT
DTSTART;TZID=America/Vancouver:20260127T143000
DTEND;TZID=America/Vancouver:20260127T163000
DTSTAMP:20260425T032428
CREATED:20251211T172612Z
LAST-MODIFIED:20260123T010120Z
UID:13480-1769524200-1769531400@cvrd.ca
SUMMARY:Cowichan North Recreation Commission (CNRC)
DESCRIPTION:
URL:https://cvrd.ca/event/cowichan-north-recreation-commission-cnrc/
LOCATION:BC
CATEGORIES:Committees / Commissions
END:VEVENT
BEGIN:VEVENT
DTSTART;TZID=America/Vancouver:20260527T093000
DTEND;TZID=America/Vancouver:20260527T093000
DTSTAMP:20260425T032428
CREATED:20260422T225918Z
LAST-MODIFIED:20260423T185357Z
UID:18443-1779874200-1779874200@cvrd.ca
SUMMARY:Regular Board Meeting
DESCRIPTION:
URL:https://cvrd.ca/event/regular-board-meeting/
LOCATION:CVRD Board Room\, 175 Ingram Street\, Duncan\, BC\, V9L 1N8\, Canada
CATEGORIES:Board/Hospital
END:VEVENT
BEGIN:VEVENT
DTSTART;TZID=America/Vancouver:20260530T090000
DTEND;TZID=America/Vancouver:20260531T180000
DTSTAMP:20260425T032428
CREATED:20260313T184430Z
LAST-MODIFIED:20260313T184430Z
UID:17498-1780131600-1780250400@cvrd.ca
SUMMARY:17th Annual IceBreaker Invitational Swim Meet
DESCRIPTION:The Cowichan Valley Breakers proudly host the 17th Annual IceBreaker Invitational Swim Meet on May 30–31\, 2026. This competitive swimming event welcomes BCSSA teams from across Vancouver Island and the Gulf Islands to Cowichan for a weekend of racing. \nEvent Website: www.cvbreakers.ca\nEmail: registrar@cvbreakers.ca\nEvent Address: 2653 James Street\, Duncan\, British Columbia V9L 2X5
URL:https://cvrd.ca/event/17th-annual-icebreaker-invitational-swim-meet/
LOCATION:BC
CATEGORIES:Cowichan Sport Events
END:VEVENT
BEGIN:VEVENT
DTSTART;TZID=America/Vancouver:20260603T093000
DTEND;TZID=America/Vancouver:20260603T093000
DTSTAMP:20260425T032428
CREATED:20260422T230506Z
LAST-MODIFIED:20260423T164535Z
UID:18447-1780479000-1780479000@cvrd.ca
SUMMARY:Electoral Area Services Committee Meeting
DESCRIPTION:
URL:https://cvrd.ca/event/electoral-area-services-committee-meeting-3/
LOCATION:CVRD Board Room\, 175 Ingram Street\, Duncan\, BC\, V9L 1N8\, Canada
END:VEVENT
BEGIN:VEVENT
DTSTART;TZID=America/Vancouver:20260610T093000
DTEND;TZID=America/Vancouver:20260610T093000
DTSTAMP:20260425T032428
CREATED:20260422T231538Z
LAST-MODIFIED:20260423T164617Z
UID:18451-1781083800-1781083800@cvrd.ca
SUMMARY:Committee of the Whole Meeting
DESCRIPTION:
URL:https://cvrd.ca/event/committee-of-the-whole-meeting-2/
LOCATION:CVRD Board Room\, 175 Ingram Street\, Duncan\, BC\, V9L 1N8\, Canada
END:VEVENT
END:VCALENDAR