BEGIN:VCALENDAR
VERSION:2.0
PRODID:-//CVRD - ECPv6.15.18//NONSGML v1.0//EN
CALSCALE:GREGORIAN
METHOD:PUBLISH
X-WR-CALNAME:CVRD
X-ORIGINAL-URL:https://cvrd.ca
X-WR-CALDESC:Events for CVRD
REFRESH-INTERVAL;VALUE=DURATION:PT1H
X-Robots-Tag:noindex
X-PUBLISHED-TTL:PT1H
BEGIN:VTIMEZONE
TZID:America/Vancouver
BEGIN:DAYLIGHT
TZOFFSETFROM:-0800
TZOFFSETTO:-0700
TZNAME:PDT
DTSTART:20250309T100000
END:DAYLIGHT
BEGIN:STANDARD
TZOFFSETFROM:-0700
TZOFFSETTO:-0800
TZNAME:PST
DTSTART:20251102T090000
END:STANDARD
BEGIN:DAYLIGHT
TZOFFSETFROM:-0800
TZOFFSETTO:-0700
TZNAME:PDT
DTSTART:20260308T100000
END:DAYLIGHT
BEGIN:STANDARD
TZOFFSETFROM:-0700
TZOFFSETTO:-0800
TZNAME:PST
DTSTART:20261101T090000
END:STANDARD
BEGIN:DAYLIGHT
TZOFFSETFROM:-0800
TZOFFSETTO:-0700
TZNAME:PDT
DTSTART:20270314T100000
END:DAYLIGHT
BEGIN:STANDARD
TZOFFSETFROM:-0700
TZOFFSETTO:-0800
TZNAME:PST
DTSTART:20271107T090000
END:STANDARD
END:VTIMEZONE
BEGIN:VEVENT
DTSTART;VALUE=DATE:20260501
DTEND;VALUE=DATE:20260508
DTSTAMP:20260424T151409
CREATED:20260407T164759Z
LAST-MODIFIED:20260407T164759Z
UID:18123-1777593600-1778198399@cvrd.ca
SUMMARY:BC Youth Week
DESCRIPTION:Join CVRD Recreation in celebrating BC Youth Week\, a provincial celebration of youth\, held annually from May 1 – 7. This week of fun-filled interaction and celebration is intended to build a strong connection between youth and their communities. \nCVRD Recreation Facilities will be celebrating BC Youth Week by offering a week full of FREE activities in collaboration with our Community Partners. \nMore details about all the activities can be found on our Special Events Pages:\nCowichan Community Centre\nCowichan Lake Recreation\nKerry Park Recreation Centre\nShawnigan Lake Community Centre
URL:https://cvrd.ca/event/bc-youth-week/
LOCATION:BC
CATEGORIES:CVRD Recreation
END:VEVENT
BEGIN:VEVENT
DTSTART;TZID=America/Vancouver:20260502T100000
DTEND;TZID=America/Vancouver:20260502T140000
DTSTAMP:20260424T151409
CREATED:20260422T180321Z
LAST-MODIFIED:20260422T180321Z
UID:18426-1777716000-1777730400@cvrd.ca
SUMMARY:Cowichan Emergency Preparedness Expo
DESCRIPTION:Join us at the Cowichan Emergency Preparedness Expo. This fun\, free family event brings together emergency response organizations and showcases emergency preparedness. Enjoy content presentations\, live demonstrations\, and food trucks\, and also get tips on how to make an emergency preparedness plan!
URL:https://cvrd.ca/event/cowichan-emergency-preparedness-expo/
LOCATION:Cowichan Exhibition Grounds\, 7380 Trans-Canada Hwy\, Duncan\, BC\, V9L 6B1
CATEGORIES:Emergency Management Cowichan
END:VEVENT
END:VCALENDAR