BEGIN:VCALENDAR
VERSION:2.0
PRODID:-//CVRD - ECPv6.15.18//NONSGML v1.0//EN
CALSCALE:GREGORIAN
METHOD:PUBLISH
X-WR-CALNAME:CVRD
X-ORIGINAL-URL:https://cvrd.ca
X-WR-CALDESC:Events for CVRD
REFRESH-INTERVAL;VALUE=DURATION:PT1H
X-Robots-Tag:noindex
X-PUBLISHED-TTL:PT1H
BEGIN:VTIMEZONE
TZID:America/Vancouver
BEGIN:DAYLIGHT
TZOFFSETFROM:-0800
TZOFFSETTO:-0700
TZNAME:PDT
DTSTART:20250309T100000
END:DAYLIGHT
BEGIN:STANDARD
TZOFFSETFROM:-0700
TZOFFSETTO:-0800
TZNAME:PST
DTSTART:20251102T090000
END:STANDARD
BEGIN:DAYLIGHT
TZOFFSETFROM:-0800
TZOFFSETTO:-0700
TZNAME:PDT
DTSTART:20260308T100000
END:DAYLIGHT
BEGIN:STANDARD
TZOFFSETFROM:-0700
TZOFFSETTO:-0800
TZNAME:PST
DTSTART:20261101T090000
END:STANDARD
BEGIN:DAYLIGHT
TZOFFSETFROM:-0800
TZOFFSETTO:-0700
TZNAME:PDT
DTSTART:20270314T100000
END:DAYLIGHT
BEGIN:STANDARD
TZOFFSETFROM:-0700
TZOFFSETTO:-0800
TZNAME:PST
DTSTART:20271107T090000
END:STANDARD
END:VTIMEZONE
BEGIN:VEVENT
DTSTART;VALUE=DATE:20260407
DTEND;VALUE=DATE:20260408
DTSTAMP:20260424T181449
CREATED:20260319T214549Z
LAST-MODIFIED:20260319T220458Z
UID:17648-1775520000-1775606399@cvrd.ca
SUMMARY:Registration Day for Spring & Summer 2026 Recreation Programs
DESCRIPTION:Registration for our Spring & Summer recreation programs opens for all centres at 9:00 AM. \nRegister in person\, online\, or by calling us: \n\n\n\nCowichan Community Centre\n250.748.7529\n\n\nCowichan Lake Recreation\n250.749.6742\n\n\nKerry Park Recreation Centre\n250.743.5922\n\n\nShawnigan Lake Community Centre\n250.743.1433
URL:https://cvrd.ca/event/registration-day-for-spring-summer-recreation-programs/
LOCATION:BC
CATEGORIES:CVRD Recreation
END:VEVENT
END:VCALENDAR