BEGIN:VCALENDAR
VERSION:2.0
PRODID:-//CVRD - ECPv6.15.18//NONSGML v1.0//EN
CALSCALE:GREGORIAN
METHOD:PUBLISH
X-WR-CALNAME:CVRD
X-ORIGINAL-URL:https://cvrd.ca
X-WR-CALDESC:Events for CVRD
REFRESH-INTERVAL;VALUE=DURATION:PT1H
X-Robots-Tag:noindex
X-PUBLISHED-TTL:PT1H
BEGIN:VTIMEZONE
TZID:America/Vancouver
BEGIN:DAYLIGHT
TZOFFSETFROM:-0800
TZOFFSETTO:-0700
TZNAME:PDT
DTSTART:20250309T100000
END:DAYLIGHT
BEGIN:STANDARD
TZOFFSETFROM:-0700
TZOFFSETTO:-0800
TZNAME:PST
DTSTART:20251102T090000
END:STANDARD
BEGIN:DAYLIGHT
TZOFFSETFROM:-0800
TZOFFSETTO:-0700
TZNAME:PDT
DTSTART:20260308T100000
END:DAYLIGHT
BEGIN:STANDARD
TZOFFSETFROM:-0700
TZOFFSETTO:-0800
TZNAME:PST
DTSTART:20261101T090000
END:STANDARD
BEGIN:DAYLIGHT
TZOFFSETFROM:-0800
TZOFFSETTO:-0700
TZNAME:PDT
DTSTART:20270314T100000
END:DAYLIGHT
BEGIN:STANDARD
TZOFFSETFROM:-0700
TZOFFSETTO:-0800
TZNAME:PST
DTSTART:20271107T090000
END:STANDARD
END:VTIMEZONE
BEGIN:VEVENT
DTSTART;VALUE=DATE:20260401
DTEND;VALUE=DATE:20260402
DTSTAMP:20260424T150108
CREATED:20260319T212957Z
LAST-MODIFIED:20260319T220436Z
UID:17637-1775001600-1775087999@cvrd.ca
SUMMARY:Spring & Summer 2026 Recreation Guide Release
DESCRIPTION:Our Spring & Summer Recreation Guide will be available starting April 1. This guide covers programs running from May to August 2026. \nPick up a copy at your local recreation centre\, or click here to view the guide after the release date. \nProgram registration for all centres opens Tuesday\, April 7\, 2026.
URL:https://cvrd.ca/event/spring-summer-recreation-guide-release/
LOCATION:BC
CATEGORIES:CVRD Recreation
END:VEVENT
BEGIN:VEVENT
DTSTART;TZID=America/Vancouver:20260401T093000
DTEND;TZID=America/Vancouver:20260401T093000
DTSTAMP:20260424T150108
CREATED:20260331T182111Z
LAST-MODIFIED:20260331T182453Z
UID:17995-1775035800-1775035800@cvrd.ca
SUMMARY:Electoral Area Services Committee
DESCRIPTION:
URL:https://cvrd.ca/event/electoral-area-services-committee-5/
LOCATION:CVRD – 175 Ingram St.\, 175 Ingram Street\, Duncan\, BC\, V9L 1N8\, Canada
CATEGORIES:Committees / Commissions
END:VEVENT
BEGIN:VEVENT
DTSTART;TZID=America/Vancouver:20260401T130000
DTEND;TZID=America/Vancouver:20260401T130000
DTSTAMP:20260424T150108
CREATED:20260331T181958Z
LAST-MODIFIED:20260331T182319Z
UID:17993-1775048400-1775048400@cvrd.ca
SUMMARY:Special Electoral Area Services Committee
DESCRIPTION:
URL:https://cvrd.ca/event/special-electoral-area-services-committee/
LOCATION:CVRD – 175 Ingram St.\, 175 Ingram Street\, Duncan\, BC\, V9L 1N8\, Canada
CATEGORIES:Committees / Commissions
END:VEVENT
END:VCALENDAR