BEGIN:VCALENDAR
VERSION:2.0
PRODID:-//CVRD - ECPv6.15.18//NONSGML v1.0//EN
CALSCALE:GREGORIAN
METHOD:PUBLISH
X-WR-CALNAME:CVRD
X-ORIGINAL-URL:https://cvrd.ca
X-WR-CALDESC:Events for CVRD
REFRESH-INTERVAL;VALUE=DURATION:PT1H
X-Robots-Tag:noindex
X-PUBLISHED-TTL:PT1H
BEGIN:VTIMEZONE
TZID:America/Vancouver
BEGIN:DAYLIGHT
TZOFFSETFROM:-0800
TZOFFSETTO:-0700
TZNAME:PDT
DTSTART:20250309T100000
END:DAYLIGHT
BEGIN:STANDARD
TZOFFSETFROM:-0700
TZOFFSETTO:-0800
TZNAME:PST
DTSTART:20251102T090000
END:STANDARD
BEGIN:DAYLIGHT
TZOFFSETFROM:-0800
TZOFFSETTO:-0700
TZNAME:PDT
DTSTART:20260308T100000
END:DAYLIGHT
BEGIN:STANDARD
TZOFFSETFROM:-0700
TZOFFSETTO:-0800
TZNAME:PST
DTSTART:20261101T090000
END:STANDARD
BEGIN:DAYLIGHT
TZOFFSETFROM:-0800
TZOFFSETTO:-0700
TZNAME:PDT
DTSTART:20270314T100000
END:DAYLIGHT
BEGIN:STANDARD
TZOFFSETFROM:-0700
TZOFFSETTO:-0800
TZNAME:PST
DTSTART:20271107T090000
END:STANDARD
END:VTIMEZONE
BEGIN:VEVENT
DTSTART;TZID=America/Vancouver:20260331T170000
DTEND;TZID=America/Vancouver:20260331T190000
DTSTAMP:20260424T162725
CREATED:20260324T181741Z
LAST-MODIFIED:20260330T230855Z
UID:17728-1774976400-1774983600@cvrd.ca
SUMMARY:POSTPONED - All Electoral Areas Advisory Planning Commission Meeting
DESCRIPTION:POSTPONED until after the Electoral Area Services Committee has finished with its review of the draft Comprehensive Zoning Bylaw \nElectronically via MS Teams \nRe:  Introduction of the Comprehensive Zoning Bylaw \nfor more information:  https://www.planyourcowichan.ca/zoning-bylaw-project \ncontact:  zoning@cvrd.bc.ca
URL:https://cvrd.ca/event/all-electoral-areas-advisory-planning-commission-meeting-2/
LOCATION:BC
CATEGORIES:Committees / Commissions
END:VEVENT
END:VCALENDAR