BEGIN:VCALENDAR
VERSION:2.0
PRODID:-//CVRD - ECPv6.15.18//NONSGML v1.0//EN
CALSCALE:GREGORIAN
METHOD:PUBLISH
X-WR-CALNAME:CVRD
X-ORIGINAL-URL:https://cvrd.ca
X-WR-CALDESC:Events for CVRD
REFRESH-INTERVAL;VALUE=DURATION:PT1H
X-Robots-Tag:noindex
X-PUBLISHED-TTL:PT1H
BEGIN:VTIMEZONE
TZID:America/Vancouver
BEGIN:DAYLIGHT
TZOFFSETFROM:-0800
TZOFFSETTO:-0700
TZNAME:PDT
DTSTART:20250309T100000
END:DAYLIGHT
BEGIN:STANDARD
TZOFFSETFROM:-0700
TZOFFSETTO:-0800
TZNAME:PST
DTSTART:20251102T090000
END:STANDARD
BEGIN:DAYLIGHT
TZOFFSETFROM:-0800
TZOFFSETTO:-0700
TZNAME:PDT
DTSTART:20260308T100000
END:DAYLIGHT
BEGIN:STANDARD
TZOFFSETFROM:-0700
TZOFFSETTO:-0800
TZNAME:PST
DTSTART:20261101T090000
END:STANDARD
BEGIN:DAYLIGHT
TZOFFSETFROM:-0800
TZOFFSETTO:-0700
TZNAME:PDT
DTSTART:20270314T100000
END:DAYLIGHT
BEGIN:STANDARD
TZOFFSETFROM:-0700
TZOFFSETTO:-0800
TZNAME:PST
DTSTART:20271107T090000
END:STANDARD
END:VTIMEZONE
BEGIN:VEVENT
DTSTART;TZID=America/Vancouver:20260318T093000
DTEND;TZID=America/Vancouver:20260318T093000
DTSTAMP:20260425T121727
CREATED:20260108T235932Z
LAST-MODIFIED:20260108T235954Z
UID:15073-1773826200-1773826200@cvrd.ca
SUMMARY:Electoral Area Services Committee
DESCRIPTION:
URL:https://cvrd.ca/event/electoral-area-services-committee-4/
LOCATION:BC
CATEGORIES:Committees / Commissions
END:VEVENT
BEGIN:VEVENT
DTSTART;TZID=America/Vancouver:20260318T190000
DTEND;TZID=America/Vancouver:20260318T210000
DTSTAMP:20260425T121727
CREATED:20260313T220627Z
LAST-MODIFIED:20260313T220627Z
UID:17508-1773860400-1773867600@cvrd.ca
SUMMARY:Electoral Area B - Shawnigan Lake\, Advisory Planning Commission Meeting
DESCRIPTION:contact:  planyourcowichan@cvrd.bc.ca
URL:https://cvrd.ca/event/electoral-area-b-shawnigan-lake-advisory-planning-commission-meeting-3/
LOCATION:Shawnigan Lake Community Centre
CATEGORIES:Committees / Commissions
END:VEVENT
END:VCALENDAR