BEGIN:VCALENDAR
VERSION:2.0
PRODID:-//CVRD - ECPv6.15.18//NONSGML v1.0//EN
CALSCALE:GREGORIAN
METHOD:PUBLISH
X-ORIGINAL-URL:https://cvrd.ca
X-WR-CALDESC:Events for CVRD
REFRESH-INTERVAL;VALUE=DURATION:PT1H
X-Robots-Tag:noindex
X-PUBLISHED-TTL:PT1H
BEGIN:VTIMEZONE
TZID:America/Vancouver
BEGIN:DAYLIGHT
TZOFFSETFROM:-0800
TZOFFSETTO:-0700
TZNAME:PDT
DTSTART:20250309T100000
END:DAYLIGHT
BEGIN:STANDARD
TZOFFSETFROM:-0700
TZOFFSETTO:-0800
TZNAME:PST
DTSTART:20251102T090000
END:STANDARD
BEGIN:DAYLIGHT
TZOFFSETFROM:-0800
TZOFFSETTO:-0700
TZNAME:PDT
DTSTART:20260308T100000
END:DAYLIGHT
BEGIN:STANDARD
TZOFFSETFROM:-0700
TZOFFSETTO:-0800
TZNAME:PST
DTSTART:20261101T090000
END:STANDARD
BEGIN:DAYLIGHT
TZOFFSETFROM:-0800
TZOFFSETTO:-0700
TZNAME:PDT
DTSTART:20270314T100000
END:DAYLIGHT
BEGIN:STANDARD
TZOFFSETFROM:-0700
TZOFFSETTO:-0800
TZNAME:PST
DTSTART:20271107T090000
END:STANDARD
END:VTIMEZONE
BEGIN:VEVENT
DTSTART;TZID=America/Vancouver:20260312T190000
DTEND;TZID=America/Vancouver:20260312T210000
DTSTAMP:20260425T211145
CREATED:20260306T164031Z
LAST-MODIFIED:20260306T164031Z
UID:17235-1773342000-1773349200@cvrd.ca
SUMMARY:Electoral Area B - Shawnigan Lake\, Advisory Planning Commission Meeting
DESCRIPTION:Contact:  planyourcowichan@cvrd.bc.ca \nlink: https://pub-cvrd.escribemeetings.com/
URL:https://cvrd.ca/event/electoral-area-b-shawnigan-lake-advisory-planning-commission-meeting-2/
LOCATION:Shawnigan Lake Community Centre
CATEGORIES:Committees / Commissions
END:VEVENT
END:VCALENDAR