BEGIN:VCALENDAR
VERSION:2.0
PRODID:-//CVRD - ECPv6.15.18//NONSGML v1.0//EN
CALSCALE:GREGORIAN
METHOD:PUBLISH
X-WR-CALNAME:CVRD
X-ORIGINAL-URL:https://cvrd.ca
X-WR-CALDESC:Events for CVRD
REFRESH-INTERVAL;VALUE=DURATION:PT1H
X-Robots-Tag:noindex
X-PUBLISHED-TTL:PT1H
BEGIN:VTIMEZONE
TZID:America/Vancouver
BEGIN:DAYLIGHT
TZOFFSETFROM:-0800
TZOFFSETTO:-0700
TZNAME:PDT
DTSTART:20250309T100000
END:DAYLIGHT
BEGIN:STANDARD
TZOFFSETFROM:-0700
TZOFFSETTO:-0800
TZNAME:PST
DTSTART:20251102T090000
END:STANDARD
BEGIN:DAYLIGHT
TZOFFSETFROM:-0800
TZOFFSETTO:-0700
TZNAME:PDT
DTSTART:20260308T100000
END:DAYLIGHT
BEGIN:STANDARD
TZOFFSETFROM:-0700
TZOFFSETTO:-0800
TZNAME:PST
DTSTART:20261101T090000
END:STANDARD
BEGIN:DAYLIGHT
TZOFFSETFROM:-0800
TZOFFSETTO:-0700
TZNAME:PDT
DTSTART:20270314T100000
END:DAYLIGHT
BEGIN:STANDARD
TZOFFSETFROM:-0700
TZOFFSETTO:-0800
TZNAME:PST
DTSTART:20271107T090000
END:STANDARD
END:VTIMEZONE
BEGIN:VEVENT
DTSTART;TZID=America/Vancouver:20260211T093000
DTEND;TZID=America/Vancouver:20260211T093000
DTSTAMP:20260425T163639
CREATED:20260108T212205Z
LAST-MODIFIED:20260210T201141Z
UID:15007-1770802200-1770802200@cvrd.ca
SUMMARY:Committee of the Whole - Virtual Meeting
DESCRIPTION:Please note this meeting is being conducted virtually via Teams. In order to participate\, please follow the link above to register.
URL:https://cvrd.ca/event/committee-of-the-whole/
LOCATION:BC
CATEGORIES:Committees / Commissions
END:VEVENT
BEGIN:VEVENT
DTSTART;TZID=America/Vancouver:20260211T180000
DTEND;TZID=America/Vancouver:20260211T200000
DTSTAMP:20260425T163639
CREATED:20260128T182712Z
LAST-MODIFIED:20260128T195319Z
UID:15922-1770832800-1770840000@cvrd.ca
SUMMARY:Public Information Meeting Re:  Application No. RZ25H01 (4760 Brenton Page Rd)
DESCRIPTION:North Oyster Community Centre – 13467 Cedar Road\, Ladysmith \nClick for more information.  \nContact:  ds@cvrd.bc.ca
URL:https://cvrd.ca/event/public-information-meeting-re-application-no-rz25h01-4760-brenton-page-rd/
LOCATION:BC
END:VEVENT
END:VCALENDAR