BEGIN:VCALENDAR
VERSION:2.0
PRODID:-//CVRD - ECPv6.15.18//NONSGML v1.0//EN
CALSCALE:GREGORIAN
METHOD:PUBLISH
X-ORIGINAL-URL:https://cvrd.ca
X-WR-CALDESC:Events for CVRD
REFRESH-INTERVAL;VALUE=DURATION:PT1H
X-Robots-Tag:noindex
X-PUBLISHED-TTL:PT1H
BEGIN:VTIMEZONE
TZID:America/Vancouver
BEGIN:DAYLIGHT
TZOFFSETFROM:-0800
TZOFFSETTO:-0700
TZNAME:PDT
DTSTART:20250309T100000
END:DAYLIGHT
BEGIN:STANDARD
TZOFFSETFROM:-0700
TZOFFSETTO:-0800
TZNAME:PST
DTSTART:20251102T090000
END:STANDARD
BEGIN:DAYLIGHT
TZOFFSETFROM:-0800
TZOFFSETTO:-0700
TZNAME:PDT
DTSTART:20260308T100000
END:DAYLIGHT
BEGIN:STANDARD
TZOFFSETFROM:-0700
TZOFFSETTO:-0800
TZNAME:PST
DTSTART:20261101T090000
END:STANDARD
BEGIN:DAYLIGHT
TZOFFSETFROM:-0800
TZOFFSETTO:-0700
TZNAME:PDT
DTSTART:20270314T100000
END:DAYLIGHT
BEGIN:STANDARD
TZOFFSETFROM:-0700
TZOFFSETTO:-0800
TZNAME:PST
DTSTART:20271107T090000
END:STANDARD
END:VTIMEZONE
BEGIN:VEVENT
DTSTART;TZID=America/Vancouver:20260128T093000
DTEND;TZID=America/Vancouver:20260128T093000
DTSTAMP:20260425T061540
CREATED:20251204T184518Z
LAST-MODIFIED:20251204T184539Z
UID:13152-1769592600-1769592600@cvrd.ca
SUMMARY:Regular Board
DESCRIPTION:
URL:https://cvrd.ca/event/regular-board-2026-01-28/
LOCATION:CVRD Board Room\, 175 Ingram Street\, Duncan\, BC\, V9L 1N8\, Canada
CATEGORIES:Committees / Commissions
END:VEVENT
END:VCALENDAR